BEGIN:VCALENDAR
VERSION:2.0
PRODID:-//Long Beach Township - ECPv6.15.20//NONSGML v1.0//EN
CALSCALE:GREGORIAN
METHOD:PUBLISH
X-ORIGINAL-URL:https://www.longbeachtownship.com
X-WR-CALDESC:Events for Long Beach Township
REFRESH-INTERVAL;VALUE=DURATION:PT1H
X-Robots-Tag:noindex
X-PUBLISHED-TTL:PT1H
BEGIN:VTIMEZONE
TZID:America/New_York
BEGIN:DAYLIGHT
TZOFFSETFROM:-0500
TZOFFSETTO:-0400
TZNAME:EDT
DTSTART:20190310T070000
END:DAYLIGHT
BEGIN:STANDARD
TZOFFSETFROM:-0400
TZOFFSETTO:-0500
TZNAME:EST
DTSTART:20191103T060000
END:STANDARD
BEGIN:DAYLIGHT
TZOFFSETFROM:-0500
TZOFFSETTO:-0400
TZNAME:EDT
DTSTART:20200308T070000
END:DAYLIGHT
BEGIN:STANDARD
TZOFFSETFROM:-0400
TZOFFSETTO:-0500
TZNAME:EST
DTSTART:20201101T060000
END:STANDARD
BEGIN:DAYLIGHT
TZOFFSETFROM:-0500
TZOFFSETTO:-0400
TZNAME:EDT
DTSTART:20210314T070000
END:DAYLIGHT
BEGIN:STANDARD
TZOFFSETFROM:-0400
TZOFFSETTO:-0500
TZNAME:EST
DTSTART:20211107T060000
END:STANDARD
END:VTIMEZONE
BEGIN:VEVENT
DTSTART;TZID=America/New_York:20201207T160000
DTEND;TZID=America/New_York:20201207T170000
DTSTAMP:20260423T034426
CREATED:20200615T160637Z
LAST-MODIFIED:20201207T172408Z
UID:10000491-1607356800-1607360400@www.longbeachtownship.com
SUMMARY:Public Meeting
DESCRIPTION:Info for today’s Public Meeting can be found here: https://www.longbeachtownship.com/public-meeting-info/
URL:https://www.longbeachtownship.com/event/public-meeting-2-2020-12-07/
LOCATION:James J. Mancini Administration Building\, 6805 Long Beach Blvd\, Brant Beach\, NJ\, 08008\, United States
ATTACH;FMTTYPE=image/jpeg:https://www.longbeachtownship.com/wp-content/uploads/2020/04/newssquare-1.jpg
END:VEVENT
BEGIN:VEVENT
DTSTART;TZID=America/New_York:20201221T160000
DTEND;TZID=America/New_York:20201221T170000
DTSTAMP:20260423T034426
CREATED:20200615T163935Z
LAST-MODIFIED:20201218T143628Z
UID:10000498-1608566400-1608570000@www.longbeachtownship.com
SUMMARY:Public Meeting
DESCRIPTION:Township of Long Beach is inviting you to a scheduled Zoom meeting. \nTopic: Public Meeting\nTime: Dec 21\, 2020 04:00 PM Eastern Time (US and Canada) \nJoin Zoom Meeting\nhttps://zoom.us/j/92430498069?pwd=YzRkb0tHNUY3THBxSnNyRjM2dkZsdz09 \nMeeting ID: 924 3049 8069\nPasscode: 064082\nOne tap mobile\n+13017158592\,\,92430498069#\,\,\,\,\,\,0#\,\,064082# US (Washington D.C)\n+13126266799\,\,92430498069#\,\,\,\,\,\,0#\,\,064082# US (Chicago) \nDial by your location\n+1 301 715 8592 US (Washington D.C)\n+1 312 626 6799 US (Chicago)\n+1 929 205 6099 US (New York)\n+1 253 215 8782 US (Tacoma)\n+1 346 248 7799 US (Houston)\n+1 669 900 6833 US (San Jose)\nMeeting ID: 924 3049 8069\nPasscode: 064082\nFind your local number: https://zoom.us/u/aehEFuOWrK \n 
URL:https://www.longbeachtownship.com/event/public-meeting-4/
LOCATION:James J. Mancini Administration Building\, 6805 Long Beach Blvd\, Brant Beach\, NJ\, 08008\, United States
CATEGORIES:Public Meeting
ATTACH;FMTTYPE=image/jpeg:https://www.longbeachtownship.com/wp-content/uploads/2020/04/newssquare-1.jpg
END:VEVENT
END:VCALENDAR