BEGIN:VCALENDAR
VERSION:2.0
PRODID:-//Long Beach Township - ECPv6.15.20//NONSGML v1.0//EN
CALSCALE:GREGORIAN
METHOD:PUBLISH
X-WR-CALNAME:Long Beach Township
X-ORIGINAL-URL:https://www.longbeachtownship.com
X-WR-CALDESC:Events for Long Beach Township
REFRESH-INTERVAL;VALUE=DURATION:PT1H
X-Robots-Tag:noindex
X-PUBLISHED-TTL:PT1H
BEGIN:VTIMEZONE
TZID:America/New_York
BEGIN:DAYLIGHT
TZOFFSETFROM:-0500
TZOFFSETTO:-0400
TZNAME:EDT
DTSTART:20190310T070000
END:DAYLIGHT
BEGIN:STANDARD
TZOFFSETFROM:-0400
TZOFFSETTO:-0500
TZNAME:EST
DTSTART:20191103T060000
END:STANDARD
BEGIN:DAYLIGHT
TZOFFSETFROM:-0500
TZOFFSETTO:-0400
TZNAME:EDT
DTSTART:20200308T070000
END:DAYLIGHT
BEGIN:STANDARD
TZOFFSETFROM:-0400
TZOFFSETTO:-0500
TZNAME:EST
DTSTART:20201101T060000
END:STANDARD
BEGIN:DAYLIGHT
TZOFFSETFROM:-0500
TZOFFSETTO:-0400
TZNAME:EDT
DTSTART:20210314T070000
END:DAYLIGHT
BEGIN:STANDARD
TZOFFSETFROM:-0400
TZOFFSETTO:-0500
TZNAME:EST
DTSTART:20211107T060000
END:STANDARD
END:VTIMEZONE
BEGIN:VEVENT
DTSTART;TZID=America/New_York:20201209T190000
DTEND;TZID=America/New_York:20201209T200000
DTSTAMP:20260420T234900
CREATED:20200615T160021Z
LAST-MODIFIED:20201201T175031Z
UID:10000478-1607540400-1607544000@www.longbeachtownship.com
SUMMARY:Land Use Board Meeting
DESCRIPTION:The LAND USE BOARD of the Township of Long Beach will convene public meetings at 7:00 PM in the Multi-Purpose Room on the second floor of the James J. Mancini Administration Building\, 6805 Long Beach Boulevard\, Brant Beach\, New Jersey. \nZOOM INFO- DECEMBER 9\, 2020 \n12-9-20 AGENDA \n  \n  \nAny questions please contact the Land Use Board Secretary\, Jackie Fife at 609-361-6653.
URL:https://www.longbeachtownship.com/event/land-use-board-meeting-2020-08-12/2020-12-09/
LOCATION:James J. Mancini Administration Building\, 6805 Long Beach Blvd\, Brant Beach\, NJ\, 08008\, United States
ATTACH;FMTTYPE=image/jpeg:https://www.longbeachtownship.com/wp-content/uploads/2020/04/newssquare-1.jpg
END:VEVENT
END:VCALENDAR