BEGIN:VCALENDAR
VERSION:2.0
PRODID:-//Long Beach Township - ECPv6.15.20//NONSGML v1.0//EN
CALSCALE:GREGORIAN
METHOD:PUBLISH
X-WR-CALNAME:Long Beach Township
X-ORIGINAL-URL:https://www.longbeachtownship.com
X-WR-CALDESC:Events for Long Beach Township
REFRESH-INTERVAL;VALUE=DURATION:PT1H
X-Robots-Tag:noindex
X-PUBLISHED-TTL:PT1H
BEGIN:VTIMEZONE
TZID:America/New_York
BEGIN:DAYLIGHT
TZOFFSETFROM:-0500
TZOFFSETTO:-0400
TZNAME:EDT
DTSTART:20190310T070000
END:DAYLIGHT
BEGIN:STANDARD
TZOFFSETFROM:-0400
TZOFFSETTO:-0500
TZNAME:EST
DTSTART:20191103T060000
END:STANDARD
BEGIN:DAYLIGHT
TZOFFSETFROM:-0500
TZOFFSETTO:-0400
TZNAME:EDT
DTSTART:20200308T070000
END:DAYLIGHT
BEGIN:STANDARD
TZOFFSETFROM:-0400
TZOFFSETTO:-0500
TZNAME:EST
DTSTART:20201101T060000
END:STANDARD
BEGIN:DAYLIGHT
TZOFFSETFROM:-0500
TZOFFSETTO:-0400
TZNAME:EDT
DTSTART:20210314T070000
END:DAYLIGHT
BEGIN:STANDARD
TZOFFSETFROM:-0400
TZOFFSETTO:-0500
TZNAME:EST
DTSTART:20211107T060000
END:STANDARD
END:VTIMEZONE
BEGIN:VEVENT
DTSTART;TZID=America/New_York:20201112T190000
DTEND;TZID=America/New_York:20201112T200000
DTSTAMP:20260421T013331
CREATED:20200615T160021Z
LAST-MODIFIED:20201109T151301Z
UID:10000483-1605207600-1605211200@www.longbeachtownship.com
SUMMARY:Land Use Board Meeting
DESCRIPTION:ZOOM INFO- NOVEMBER 12 2020 \nAny questions please contact the Land Use Board Secretary\, Jackie Fife at 609-361-6653
URL:https://www.longbeachtownship.com/event/land-use-board-meeting-2020-08-12-2020-11-11/
LOCATION:James J. Mancini Administration Building\, 6805 Long Beach Blvd\, Brant Beach\, NJ\, 08008\, United States
ATTACH;FMTTYPE=image/jpeg:https://www.longbeachtownship.com/wp-content/uploads/2020/04/newssquare-1.jpg
END:VEVENT
END:VCALENDAR