BEGIN:VCALENDAR
VERSION:2.0
PRODID:-//Long Beach Township - ECPv6.15.20//NONSGML v1.0//EN
CALSCALE:GREGORIAN
METHOD:PUBLISH
X-WR-CALNAME:Long Beach Township
X-ORIGINAL-URL:https://www.longbeachtownship.com
X-WR-CALDESC:Events for Long Beach Township
REFRESH-INTERVAL;VALUE=DURATION:PT1H
X-Robots-Tag:noindex
X-PUBLISHED-TTL:PT1H
BEGIN:VTIMEZONE
TZID:America/New_York
BEGIN:DAYLIGHT
TZOFFSETFROM:-0500
TZOFFSETTO:-0400
TZNAME:EDT
DTSTART:20250309T070000
END:DAYLIGHT
BEGIN:STANDARD
TZOFFSETFROM:-0400
TZOFFSETTO:-0500
TZNAME:EST
DTSTART:20251102T060000
END:STANDARD
BEGIN:DAYLIGHT
TZOFFSETFROM:-0500
TZOFFSETTO:-0400
TZNAME:EDT
DTSTART:20260308T070000
END:DAYLIGHT
BEGIN:STANDARD
TZOFFSETFROM:-0400
TZOFFSETTO:-0500
TZNAME:EST
DTSTART:20261101T060000
END:STANDARD
BEGIN:DAYLIGHT
TZOFFSETFROM:-0500
TZOFFSETTO:-0400
TZNAME:EDT
DTSTART:20270314T070000
END:DAYLIGHT
BEGIN:STANDARD
TZOFFSETFROM:-0400
TZOFFSETTO:-0500
TZNAME:EST
DTSTART:20271107T060000
END:STANDARD
END:VTIMEZONE
BEGIN:VEVENT
DTSTART;VALUE=DATE:20260101
DTEND;VALUE=DATE:20260102
DTSTAMP:20260421T172502
CREATED:20251003T141230Z
LAST-MODIFIED:20251003T141230Z
UID:10001787-1767225600-1767311999@www.longbeachtownship.com
SUMMARY:New Years Day
DESCRIPTION:Town Hall is closed.
URL:https://www.longbeachtownship.com/event/new-years-day-5/
CATEGORIES:Holiday
END:VEVENT
BEGIN:VEVENT
DTSTART;TZID=America/New_York:20260105T160000
DTEND;TZID=America/New_York:20260105T170000
DTSTAMP:20260421T172502
CREATED:20251211T160152Z
LAST-MODIFIED:20251211T160454Z
UID:10001803-1767628800-1767632400@www.longbeachtownship.com
SUMMARY:Public Meeting
DESCRIPTION:Caucus Meeting: 3pm \nPublic Meeting: 4pm \nMeeting held in Court Room
URL:https://www.longbeachtownship.com/event/public-meeting-26/2026-01-05/
LOCATION:James J. Mancini Administration Building\, 6805 Long Beach Blvd\, Brant Beach\, NJ\, 08008\, United States
CATEGORIES:Public Meeting
END:VEVENT
BEGIN:VEVENT
DTSTART;TZID=America/New_York:20260114T183000
DTEND;TZID=America/New_York:20260114T193000
DTSTAMP:20260421T172502
CREATED:20251211T161350Z
LAST-MODIFIED:20251211T162212Z
UID:10001817-1768415400-1768419000@www.longbeachtownship.com
SUMMARY:Land Use Board Meeting
DESCRIPTION:For information and agendas\, please go to: https://www.longbeachtownship.com/land-use/
URL:https://www.longbeachtownship.com/event/land-use-board-meeting-8/
LOCATION:James J. Mancini Administration Building\, 6805 Long Beach Blvd\, Brant Beach\, NJ\, 08008\, United States
CATEGORIES:Public Meeting
END:VEVENT
BEGIN:VEVENT
DTSTART;VALUE=DATE:20260119
DTEND;VALUE=DATE:20260120
DTSTAMP:20260421T172502
CREATED:20251211T154056Z
LAST-MODIFIED:20251211T154056Z
UID:10001792-1768780800-1768867199@www.longbeachtownship.com
SUMMARY:Martin Luther King JR Day
DESCRIPTION:Municipal Offices Closed
URL:https://www.longbeachtownship.com/event/martin-luther-king-jr-day-6/
CATEGORIES:Holiday
END:VEVENT
END:VCALENDAR