BEGIN:VCALENDAR
VERSION:2.0
PRODID:-//Long Beach Township - ECPv6.15.20//NONSGML v1.0//EN
CALSCALE:GREGORIAN
METHOD:PUBLISH
X-ORIGINAL-URL:https://www.longbeachtownship.com
X-WR-CALDESC:Events for Long Beach Township
REFRESH-INTERVAL;VALUE=DURATION:PT1H
X-Robots-Tag:noindex
X-PUBLISHED-TTL:PT1H
BEGIN:VTIMEZONE
TZID:America/New_York
BEGIN:DAYLIGHT
TZOFFSETFROM:-0500
TZOFFSETTO:-0400
TZNAME:EDT
DTSTART:20230312T070000
END:DAYLIGHT
BEGIN:STANDARD
TZOFFSETFROM:-0400
TZOFFSETTO:-0500
TZNAME:EST
DTSTART:20231105T060000
END:STANDARD
BEGIN:DAYLIGHT
TZOFFSETFROM:-0500
TZOFFSETTO:-0400
TZNAME:EDT
DTSTART:20240310T070000
END:DAYLIGHT
BEGIN:STANDARD
TZOFFSETFROM:-0400
TZOFFSETTO:-0500
TZNAME:EST
DTSTART:20241103T060000
END:STANDARD
BEGIN:DAYLIGHT
TZOFFSETFROM:-0500
TZOFFSETTO:-0400
TZNAME:EDT
DTSTART:20250309T070000
END:DAYLIGHT
BEGIN:STANDARD
TZOFFSETFROM:-0400
TZOFFSETTO:-0500
TZNAME:EST
DTSTART:20251102T060000
END:STANDARD
END:VTIMEZONE
BEGIN:VEVENT
DTSTART;TZID=America/New_York:20240508T183000
DTEND;TZID=America/New_York:20240508T193000
DTSTAMP:20260420T205555
CREATED:20231207T155953Z
LAST-MODIFIED:20241007T195812Z
UID:10000655-1715193000-1715196600@www.longbeachtownship.com
SUMMARY:Land Use Board Meeting
DESCRIPTION:For agenda and information please click this: https://www.longbeachtownship.com/land-use/ \nOct 7th Meeting is ZOOM Only: \nZOOM NOTICE- for OCTOBER 9\, 2024
URL:https://www.longbeachtownship.com/event/land-use-board-meeting-6/2024-05-08/
LOCATION:James J. Mancini Administration Building\, 6805 Long Beach Blvd\, Brant Beach\, NJ\, 08008\, United States
CATEGORIES:Public Meeting
END:VEVENT
BEGIN:VEVENT
DTSTART;TZID=America/New_York:20240508T183000
DTEND;TZID=America/New_York:20240508T193000
DTSTAMP:20260420T205555
CREATED:20250430T140030Z
LAST-MODIFIED:20250430T140030Z
UID:10000669-1715193000-1715196600@www.longbeachtownship.com
SUMMARY:Land Use Board Meeting
DESCRIPTION:For agenda and information please click this: https://www.longbeachtownship.com/land-use/ \nOct 7th Meeting is ZOOM Only: \nZOOM NOTICE- for OCTOBER 9\, 2024
URL:https://www.longbeachtownship.com/event/land-use-board-meeting-6/2024-05-08/
LOCATION:James J. Mancini Administration Building\, 6805 Long Beach Blvd\, Brant Beach\, NJ\, 08008\, United States
CATEGORIES:Public Meeting
END:VEVENT
BEGIN:VEVENT
DTSTART;TZID=America/New_York:20240525T080000
DTEND;TZID=America/New_York:20240525T210000
DTSTAMP:20260420T205555
CREATED:20240507T131924Z
LAST-MODIFIED:20240524T164431Z
UID:10000683-1716624000-1716670800@www.longbeachtownship.com
SUMMARY:Townwide Yard Sale
DESCRIPTION:Townwide Yard Sale Application \nSaturday May 25th is the Town Wide Yard Sale – with a rain date of Sunday\, May 26th.  We will post a list of participating homes on May 24th. \nJune 29th is the next Townwide Yard Sale. \nList of participating homes (printable): 2024 MAY TOWNWIDE YARDSALE
URL:https://www.longbeachtownship.com/event/townwide-yard-sale/
CATEGORIES:Town Wide Yard Sale
END:VEVENT
BEGIN:VEVENT
DTSTART;TZID=America/New_York:20240525T170000
DTEND;TZID=America/New_York:20240525T210000
DTSTAMP:20260420T205555
CREATED:20240412T192133Z
LAST-MODIFIED:20240416T171253Z
UID:10000681-1716656400-1716670800@www.longbeachtownship.com
SUMMARY:125th Anniversary Celebration
DESCRIPTION:Join us on May 25th to celebrate our 125th Anniversary! Starting at 5pm with Live Music\, Free Kids Activities\, Food & Beverages for sale\, and ending with Fireworks!\nSponsored by the LBI Chamber & Fantasy Island Amusement Park.
URL:https://www.longbeachtownship.com/event/125th-anniversary-celebration/
LOCATION:Bayview Park\, 6802 Long Beach Blvd\, Brant Beach\, NJ\, 08008
CATEGORIES:Recreation
END:VEVENT
BEGIN:VEVENT
DTSTART;TZID=America/New_York:20240525T210000
DTEND;TZID=America/New_York:20240525T213000
DTSTAMP:20260420T205555
CREATED:20240416T171545Z
LAST-MODIFIED:20240416T171636Z
UID:10000682-1716670800-1716672600@www.longbeachtownship.com
SUMMARY:Fireworks at Bayview Park
DESCRIPTION:Fantasy Island Amusement Park presents the Kick-off to Summer Fireworks! Watch from your roof top deck or boat or join us at Bayview Park. \nRain Date Sunday May 26th.
URL:https://www.longbeachtownship.com/event/fireworks-at-bayview-park/
LOCATION:Bayview Park\, 6802 Long Beach Blvd\, Brant Beach\, NJ\, 08008
CATEGORIES:Recreation
END:VEVENT
BEGIN:VEVENT
DTSTART;VALUE=DATE:20240527
DTEND;VALUE=DATE:20240528
DTSTAMP:20260420T205555
CREATED:20231207T154928Z
LAST-MODIFIED:20231207T154928Z
UID:10000874-1716768000-1716854399@www.longbeachtownship.com
SUMMARY:Memorial Day
DESCRIPTION:The Township offices are closed.
URL:https://www.longbeachtownship.com/event/memorial-day-4/
END:VEVENT
END:VCALENDAR