BEGIN:VCALENDAR
VERSION:2.0
PRODID:-//Long Beach Township - ECPv6.15.20//NONSGML v1.0//EN
CALSCALE:GREGORIAN
METHOD:PUBLISH
X-ORIGINAL-URL:https://www.longbeachtownship.com
X-WR-CALDESC:Events for Long Beach Township
REFRESH-INTERVAL;VALUE=DURATION:PT1H
X-Robots-Tag:noindex
X-PUBLISHED-TTL:PT1H
BEGIN:VTIMEZONE
TZID:America/New_York
BEGIN:DAYLIGHT
TZOFFSETFROM:-0500
TZOFFSETTO:-0400
TZNAME:EDT
DTSTART:20230312T070000
END:DAYLIGHT
BEGIN:STANDARD
TZOFFSETFROM:-0400
TZOFFSETTO:-0500
TZNAME:EST
DTSTART:20231105T060000
END:STANDARD
BEGIN:DAYLIGHT
TZOFFSETFROM:-0500
TZOFFSETTO:-0400
TZNAME:EDT
DTSTART:20240310T070000
END:DAYLIGHT
BEGIN:STANDARD
TZOFFSETFROM:-0400
TZOFFSETTO:-0500
TZNAME:EST
DTSTART:20241103T060000
END:STANDARD
BEGIN:DAYLIGHT
TZOFFSETFROM:-0500
TZOFFSETTO:-0400
TZNAME:EDT
DTSTART:20250309T070000
END:DAYLIGHT
BEGIN:STANDARD
TZOFFSETFROM:-0400
TZOFFSETTO:-0500
TZNAME:EST
DTSTART:20251102T060000
END:STANDARD
END:VTIMEZONE
BEGIN:VEVENT
DTSTART;VALUE=DATE:20240212
DTEND;VALUE=DATE:20240213
DTSTAMP:20260419T234252
CREATED:20231207T154706Z
LAST-MODIFIED:20231207T154706Z
UID:10000649-1707696000-1707782399@www.longbeachtownship.com
SUMMARY:Lincoln's Birthday (observed)
DESCRIPTION:The Township offices are closed.
URL:https://www.longbeachtownship.com/event/lincolns-birthday-observed/
END:VEVENT
BEGIN:VEVENT
DTSTART;TZID=America/New_York:20240214T183000
DTEND;TZID=America/New_York:20240214T193000
DTSTAMP:20260419T234252
CREATED:20231207T155953Z
LAST-MODIFIED:20241007T195812Z
UID:10000652-1707935400-1707939000@www.longbeachtownship.com
SUMMARY:Land Use Board Meeting
DESCRIPTION:For agenda and information please click this: https://www.longbeachtownship.com/land-use/ \nOct 7th Meeting is ZOOM Only: \nZOOM NOTICE- for OCTOBER 9\, 2024
URL:https://www.longbeachtownship.com/event/land-use-board-meeting-6/2024-02-14/
LOCATION:James J. Mancini Administration Building\, 6805 Long Beach Blvd\, Brant Beach\, NJ\, 08008\, United States
CATEGORIES:Public Meeting
END:VEVENT
BEGIN:VEVENT
DTSTART;TZID=America/New_York:20240214T183000
DTEND;TZID=America/New_York:20240214T193000
DTSTAMP:20260419T234252
CREATED:20250430T140030Z
LAST-MODIFIED:20250430T140030Z
UID:10000666-1707935400-1707939000@www.longbeachtownship.com
SUMMARY:Land Use Board Meeting
DESCRIPTION:For agenda and information please click this: https://www.longbeachtownship.com/land-use/ \nOct 7th Meeting is ZOOM Only: \nZOOM NOTICE- for OCTOBER 9\, 2024
URL:https://www.longbeachtownship.com/event/land-use-board-meeting-6/2024-02-14/
LOCATION:James J. Mancini Administration Building\, 6805 Long Beach Blvd\, Brant Beach\, NJ\, 08008\, United States
CATEGORIES:Public Meeting
END:VEVENT
BEGIN:VEVENT
DTSTART;VALUE=DATE:20240219
DTEND;VALUE=DATE:20240220
DTSTAMP:20260419T234252
CREATED:20231207T154748Z
LAST-MODIFIED:20231207T154748Z
UID:10000650-1708300800-1708387199@www.longbeachtownship.com
SUMMARY:President's Day
DESCRIPTION:The Township offices are closed.
URL:https://www.longbeachtownship.com/event/presidents-day-4/
END:VEVENT
END:VCALENDAR