BEGIN:VCALENDAR
VERSION:2.0
PRODID:-//Long Beach Township - ECPv6.15.20//NONSGML v1.0//EN
CALSCALE:GREGORIAN
METHOD:PUBLISH
X-ORIGINAL-URL:https://www.longbeachtownship.com
X-WR-CALDESC:Events for Long Beach Township
REFRESH-INTERVAL;VALUE=DURATION:PT1H
X-Robots-Tag:noindex
X-PUBLISHED-TTL:PT1H
BEGIN:VTIMEZONE
TZID:America/New_York
BEGIN:DAYLIGHT
TZOFFSETFROM:-0500
TZOFFSETTO:-0400
TZNAME:EDT
DTSTART:20190310T070000
END:DAYLIGHT
BEGIN:STANDARD
TZOFFSETFROM:-0400
TZOFFSETTO:-0500
TZNAME:EST
DTSTART:20191103T060000
END:STANDARD
BEGIN:DAYLIGHT
TZOFFSETFROM:-0500
TZOFFSETTO:-0400
TZNAME:EDT
DTSTART:20200308T070000
END:DAYLIGHT
BEGIN:STANDARD
TZOFFSETFROM:-0400
TZOFFSETTO:-0500
TZNAME:EST
DTSTART:20201101T060000
END:STANDARD
BEGIN:DAYLIGHT
TZOFFSETFROM:-0500
TZOFFSETTO:-0400
TZNAME:EDT
DTSTART:20210314T070000
END:DAYLIGHT
BEGIN:STANDARD
TZOFFSETFROM:-0400
TZOFFSETTO:-0500
TZNAME:EST
DTSTART:20211107T060000
END:STANDARD
END:VTIMEZONE
BEGIN:VEVENT
DTSTART;TZID=America/New_York:20201010T070000
DTEND;TZID=America/New_York:20201010T120000
DTSTAMP:20260422T134805
CREATED:20201005T152655Z
LAST-MODIFIED:20201005T152816Z
UID:10000534-1602313200-1602331200@www.longbeachtownship.com
SUMMARY:Free Dune Grass
DESCRIPTION:Free Dune Grass will be available this weekend at Public Works-Recycling Center (7910 Long Beach Blvd) on Saturday\, Sunday\, & Monday from 7am-12pm. To learn more about how dune grass & other native plants are vital to the health of our dunes check out www.jerseyyards.org \nThe Recycling Drop-off center will also be open the same hours for residents who need to drop off recycling.
URL:https://www.longbeachtownship.com/event/free-dune-grass/2020-10-10/
LOCATION:7910  Long Beach Blvd Beach Haven Crest\, NJ 08008\, 7910 Long Beach Blvd\, Beach Haven Crest\, NJ\, 08008
CATEGORIES:Public Works
END:VEVENT
END:VCALENDAR