BEGIN:VCALENDAR
VERSION:2.0
PRODID:-//Long Beach Township - ECPv6.15.20//NONSGML v1.0//EN
CALSCALE:GREGORIAN
METHOD:PUBLISH
X-ORIGINAL-URL:https://www.longbeachtownship.com
X-WR-CALDESC:Events for Long Beach Township
REFRESH-INTERVAL;VALUE=DURATION:PT1H
X-Robots-Tag:noindex
X-PUBLISHED-TTL:PT1H
BEGIN:VTIMEZONE
TZID:America/New_York
BEGIN:DAYLIGHT
TZOFFSETFROM:-0500
TZOFFSETTO:-0400
TZNAME:EDT
DTSTART:20250309T070000
END:DAYLIGHT
BEGIN:STANDARD
TZOFFSETFROM:-0400
TZOFFSETTO:-0500
TZNAME:EST
DTSTART:20251102T060000
END:STANDARD
BEGIN:DAYLIGHT
TZOFFSETFROM:-0500
TZOFFSETTO:-0400
TZNAME:EDT
DTSTART:20260308T070000
END:DAYLIGHT
BEGIN:STANDARD
TZOFFSETFROM:-0400
TZOFFSETTO:-0500
TZNAME:EST
DTSTART:20261101T060000
END:STANDARD
BEGIN:DAYLIGHT
TZOFFSETFROM:-0500
TZOFFSETTO:-0400
TZNAME:EDT
DTSTART:20270314T070000
END:DAYLIGHT
BEGIN:STANDARD
TZOFFSETFROM:-0400
TZOFFSETTO:-0500
TZNAME:EST
DTSTART:20271107T060000
END:STANDARD
END:VTIMEZONE
BEGIN:VEVENT
DTSTART;VALUE=DATE:20260119
DTEND;VALUE=DATE:20260120
DTSTAMP:20260420T003508
CREATED:20251211T154056Z
LAST-MODIFIED:20251211T154056Z
UID:10001792-1768780800-1768867199@www.longbeachtownship.com
SUMMARY:Martin Luther King JR Day
DESCRIPTION:Municipal Offices Closed
URL:https://www.longbeachtownship.com/event/martin-luther-king-jr-day-6/
CATEGORIES:Holiday
END:VEVENT
BEGIN:VEVENT
DTSTART;VALUE=DATE:20260209
DTEND;VALUE=DATE:20260210
DTSTAMP:20260420T003508
CREATED:20251211T154138Z
LAST-MODIFIED:20251211T154300Z
UID:10001793-1770595200-1770681599@www.longbeachtownship.com
SUMMARY:Lincoln's Birthday (Observed)
DESCRIPTION:Municipal Offices Closed
URL:https://www.longbeachtownship.com/event/lincolns-birthday-observed-3/
CATEGORIES:Holiday
END:VEVENT
BEGIN:VEVENT
DTSTART;VALUE=DATE:20260216
DTEND;VALUE=DATE:20260217
DTSTAMP:20260420T003508
CREATED:20251211T154234Z
LAST-MODIFIED:20251211T154234Z
UID:10001794-1771200000-1771286399@www.longbeachtownship.com
SUMMARY:President's Day
DESCRIPTION:Municipal offices closed
URL:https://www.longbeachtownship.com/event/presidents-day-6/
CATEGORIES:Holiday
END:VEVENT
BEGIN:VEVENT
DTSTART;VALUE=DATE:20260403
DTEND;VALUE=DATE:20260404
DTSTAMP:20260420T003508
CREATED:20251211T154457Z
LAST-MODIFIED:20251211T154511Z
UID:10001795-1775174400-1775260799@www.longbeachtownship.com
SUMMARY:Good Friday
DESCRIPTION:Municipal offices closed
URL:https://www.longbeachtownship.com/event/good-friday-6/
CATEGORIES:Holiday
END:VEVENT
BEGIN:VEVENT
DTSTART;VALUE=DATE:20260525
DTEND;VALUE=DATE:20260526
DTSTAMP:20260420T003508
CREATED:20251211T154823Z
LAST-MODIFIED:20251211T154823Z
UID:10001796-1779667200-1779753599@www.longbeachtownship.com
SUMMARY:Memorial Day
DESCRIPTION:Municipal offices closed
URL:https://www.longbeachtownship.com/event/memorial-day-6/
CATEGORIES:Holiday
END:VEVENT
BEGIN:VEVENT
DTSTART;VALUE=DATE:20260703
DTEND;VALUE=DATE:20260704
DTSTAMP:20260420T003508
CREATED:20251211T154937Z
LAST-MODIFIED:20251211T154937Z
UID:10001797-1783036800-1783123199@www.longbeachtownship.com
SUMMARY:Independence Day (Observed)
DESCRIPTION:Municipal offices closed
URL:https://www.longbeachtownship.com/event/independence-day-observed-4/
CATEGORIES:Holiday
END:VEVENT
BEGIN:VEVENT
DTSTART;VALUE=DATE:20260907
DTEND;VALUE=DATE:20260908
DTSTAMP:20260420T003508
CREATED:20251211T155025Z
LAST-MODIFIED:20251211T155025Z
UID:10001798-1788739200-1788825599@www.longbeachtownship.com
SUMMARY:Labor Day
DESCRIPTION:Municipal offices closed
URL:https://www.longbeachtownship.com/event/labor-day-7/
CATEGORIES:Holiday
END:VEVENT
BEGIN:VEVENT
DTSTART;VALUE=DATE:20261103
DTEND;VALUE=DATE:20261104
DTSTAMP:20260420T003508
CREATED:20251211T155152Z
LAST-MODIFIED:20251211T155152Z
UID:10001799-1793664000-1793750399@www.longbeachtownship.com
SUMMARY:Election Day
DESCRIPTION:Municipal offices closed
URL:https://www.longbeachtownship.com/event/election-day-5/
CATEGORIES:Holiday
END:VEVENT
BEGIN:VEVENT
DTSTART;VALUE=DATE:20261111
DTEND;VALUE=DATE:20261112
DTSTAMP:20260420T003508
CREATED:20251211T155306Z
LAST-MODIFIED:20251211T155306Z
UID:10001800-1794355200-1794441599@www.longbeachtownship.com
SUMMARY:Veterans Day
DESCRIPTION:Municipal offices closed
URL:https://www.longbeachtownship.com/event/veterans-day-6/
CATEGORIES:Holiday
END:VEVENT
BEGIN:VEVENT
DTSTART;VALUE=DATE:20261126
DTEND;VALUE=DATE:20261128
DTSTAMP:20260420T003508
CREATED:20251211T155409Z
LAST-MODIFIED:20251211T155409Z
UID:10001801-1795651200-1795823999@www.longbeachtownship.com
SUMMARY:Thanksgiving
DESCRIPTION:Municipal offices closed
URL:https://www.longbeachtownship.com/event/thanksgiving-4/
CATEGORIES:Holiday
END:VEVENT
BEGIN:VEVENT
DTSTART;VALUE=DATE:20261225
DTEND;VALUE=DATE:20261226
DTSTAMP:20260420T003508
CREATED:20251211T155453Z
LAST-MODIFIED:20251211T155453Z
UID:10001802-1798156800-1798243199@www.longbeachtownship.com
SUMMARY:Christmas
DESCRIPTION:Municipal offices closed
URL:https://www.longbeachtownship.com/event/christmas-3/
CATEGORIES:Holiday
END:VEVENT
END:VCALENDAR